BEGIN:VCALENDAR
VERSION:2.0
PRODID:SchoolNow
CALSCALE:GREGORIAN
BEGIN:VEVENT
UID:e4077e2e-89d2-11f0-a5eb-02c1f9b01155
DTSTAMP:20251216T154605Z
SUMMARY:JIES-A: Bake Sale
URL;VALUE=URI:https://www.jamesirwin.org/schools/jies-astrozon-campus/calen
 dar/8581557/jies-a-bake-sale
DTSTART:20260313T192000Z
DTEND:20260313T200000Z
END:VEVENT
END:VCALENDAR
