BEGIN:VCALENDAR
VERSION:2.0
PRODID:SchoolNow
CALSCALE:GREGORIAN
BEGIN:VEVENT
UID:aa3cec68-7a16-11f0-b870-0a58a9feac02
DTSTAMP:20251216T154605Z
SUMMARY:JIES-A: 11:00 Dismissal/Staff Training
URL;VALUE=URI:https://www.jamesirwin.org/schools/jies-astrozon-campus/calen
 dar/8511488/jies-a-11-00-dismissal-staff-training
DTSTART;VALUE=DATE:20260305
DTEND;VALUE=DATE:20260306
END:VEVENT
END:VCALENDAR
