BEGIN:VCALENDAR
VERSION:2.0
PRODID:SchoolNow
CALSCALE:GREGORIAN
BEGIN:VEVENT
UID:aa3ce894-7a16-11f0-be00-0a58a9feac02
DTSTAMP:20251216T154605Z
SUMMARY:JICS Board Meeting
LOCATION:5525 Astrozon Blvd\, Colorado Springs\, CO 80916
URL;VALUE=URI:https://www.jamesirwin.org/schools/jies-astrozon-campus/calen
 dar/8511484/jics-board-meeting
DTSTART:20260318T000000Z
DTEND:20260318T013000Z
END:VEVENT
END:VCALENDAR
