BEGIN:VCALENDAR
VERSION:2.0
PRODID:SchoolNow
CALSCALE:GREGORIAN
BEGIN:VEVENT
UID:c56895d8-77e5-11f0-93da-0afffd832347
DTSTAMP:20251216T154605Z
SUMMARY:JIES-A: Spirit Shirt Day
URL;VALUE=URI:https://www.jamesirwin.org/schools/jies-astrozon-campus/calen
 dar/8503206/jies-a-spirit-shirt-day
DTSTART;VALUE=DATE:20260320
DTEND;VALUE=DATE:20260321
END:VEVENT
END:VCALENDAR
