BEGIN:VCALENDAR
VERSION:2.0
PRODID:SchoolNow
CALSCALE:GREGORIAN
BEGIN:VEVENT
UID:c56894f2-77e5-11f0-a0e2-0afffd832347
DTSTAMP:20251216T154605Z
SUMMARY:JIES-A: Spirit Shirt Day
URL;VALUE=URI:https://www.jamesirwin.org/schools/jies-astrozon-campus/calen
 dar/8503205/jies-a-spirit-shirt-day
DTSTART;VALUE=DATE:20260313
DTEND;VALUE=DATE:20260314
END:VEVENT
END:VCALENDAR
