BEGIN:VCALENDAR
VERSION:2.0
PRODID:SchoolNow
CALSCALE:GREGORIAN
BEGIN:VEVENT
UID:045828b6-731e-11f0-9b9d-0a58a9feac02
DTSTAMP:20251216T154605Z
SUMMARY:JIES-A: Friday Assembly — 1st Grade (All Classes)
URL;VALUE=URI:https://www.jamesirwin.org/schools/jies-astrozon-campus/calen
 dar/8477620/jies-a-friday-assembly-1st-grade-all-classes
DTSTART:20260313T140000Z
DTEND:20260313T142000Z
END:VEVENT
END:VCALENDAR
