BEGIN:VCALENDAR
VERSION:2.0
PRODID:SchoolNow
CALSCALE:GREGORIAN
BEGIN:VEVENT
UID:04582726-731e-11f0-9650-0a58a9feac02
DTSTAMP:20251216T154605Z
SUMMARY:JIES-A: Friday Assembly — HS Band & Attendance Matters Award
URL;VALUE=URI:https://www.jamesirwin.org/schools/jies-astrozon-campus/calen
 dar/8477619/jies-a-friday-assembly-hs-band-attendance-matters-award
DTSTART:20260306T150000Z
DTEND:20260306T152000Z
END:VEVENT
END:VCALENDAR
