BEGIN:VCALENDAR
VERSION:2.0
PRODID:SchoolNow
CALSCALE:GREGORIAN
BEGIN:VEVENT
UID:2f31b8e8-5c69-11f0-af12-0afff424d67f
DTSTAMP:20251216T154605Z
SUMMARY:JIES-A: School Closed/Spring Break
URL;VALUE=URI:https://www.jamesirwin.org/schools/jies-astrozon-campus/calen
 dar/8397520/jies-a-school-closed-spring-break
DTSTART;VALUE=DATE:20260323
DTEND;VALUE=DATE:20260328
END:VEVENT
END:VCALENDAR
