BEGIN:VCALENDAR
VERSION:2.0
PRODID:SchoolNow
CALSCALE:GREGORIAN
BEGIN:VEVENT
UID:2f31b7da-5c69-11f0-bc24-0afff424d67f
DTSTAMP:20251216T154605Z
SUMMARY:JIES-A: End of 3rd Quarter
URL;VALUE=URI:https://www.jamesirwin.org/schools/jies-astrozon-campus/calen
 dar/8397519/jies-a-end-of-3rd-quarter
DTSTART;VALUE=DATE:20260313
DTEND;VALUE=DATE:20260314
END:VEVENT
END:VCALENDAR
