BEGIN:VCALENDAR
VERSION:2.0
PRODID:SchoolNow
CALSCALE:GREGORIAN
BEGIN:VEVENT
UID:bab557d2-b6bc-11f0-95eb-0a58a9feac02
DTSTAMP:20251121T133522Z
SUMMARY:JICS: Community in Conversation
LOCATION:JICHS Commons Area\, 5525 Astrozon Blvd\, Colorado Springs\, CO 80
 916
URL;VALUE=URI:https://www.jamesirwin.org/schools/jichs/calendar/8766401/jic
 s-community-in-conversation
DTSTART:20251108T150000Z
DTEND:20251108T173000Z
END:VEVENT
END:VCALENDAR
