BEGIN:VCALENDAR
VERSION:2.0
PRODID:SchoolNow
CALSCALE:GREGORIAN
BEGIN:VEVENT
UID:dfe915c6-9e56-11f0-b5d7-0a58a9feac02
DTSTAMP:20251121T133522Z
SUMMARY:JICHS: Senior Portraits Due
URL;VALUE=URI:https://www.jamesirwin.org/schools/jichs/calendar/8682430/jic
 hs-senior-portraits-due
DTSTART;VALUE=DATE:20251031
DTEND;VALUE=DATE:20251101
END:VEVENT
END:VCALENDAR
