BEGIN:VCALENDAR
VERSION:2.0
PRODID:SchoolNow
CALSCALE:GREGORIAN
BEGIN:VEVENT
UID:dfe914b8-9e56-11f0-950d-0a58a9feac02
DTSTAMP:20251121T133522Z
SUMMARY:JICHS: College & Career Trip to UCCS
URL;VALUE=URI:https://www.jamesirwin.org/schools/jichs/calendar/8682429/jic
 hs-college-career-trip-to-uccs
DTSTART;VALUE=DATE:20251028
DTEND;VALUE=DATE:20251029
END:VEVENT
END:VCALENDAR
