BEGIN:VCALENDAR
VERSION:2.0
PRODID:SchoolNow
CALSCALE:GREGORIAN
BEGIN:VEVENT
UID:dfe91382-9e56-11f0-96a6-0a58a9feac02
DTSTAMP:20251121T133522Z
SUMMARY:JICHS: College & Career Trip to CCU
URL;VALUE=URI:https://www.jamesirwin.org/schools/jichs/calendar/8682428/jic
 hs-college-career-trip-to-ccu
DTSTART;VALUE=DATE:20251023
DTEND;VALUE=DATE:20251024
END:VEVENT
END:VCALENDAR
