BEGIN:VCALENDAR
VERSION:2.0
PRODID:SchoolNow
CALSCALE:GREGORIAN
BEGIN:VEVENT
UID:dfe91058-9e56-11f0-8035-0a58a9feac02
DTSTAMP:20251121T133522Z
SUMMARY:JICHS: 11th Graders Take the PSAT/NMSQT
URL;VALUE=URI:https://www.jamesirwin.org/schools/jichs/calendar/8682427/jic
 hs-11th-graders-take-the-psat-nmsqt
DTSTART;VALUE=DATE:20251008
DTEND;VALUE=DATE:20251009
END:VEVENT
END:VCALENDAR
