BEGIN:VCALENDAR
VERSION:2.0
PRODID:SchoolNow
CALSCALE:GREGORIAN
BEGIN:VEVENT
UID:3d2a4ef0-97f7-11f0-aa75-0a58a9feac02
DTSTAMP:20251121T133522Z
SUMMARY:JICHS: Homecoming Bonfire & Powder Puff Game
URL;VALUE=URI:https://www.jamesirwin.org/schools/jichs/calendar/8654251/jic
 hs-homecoming-bonfire-powder-puff-game
DTSTART;VALUE=DATE:20251008
DTEND;VALUE=DATE:20251009
END:VEVENT
END:VCALENDAR
