BEGIN:VCALENDAR
VERSION:2.0
PRODID:SchoolNow
CALSCALE:GREGORIAN
BEGIN:VEVENT
UID:4c33e5b0-82a7-11f0-9c42-0a58a9feac02
DTSTAMP:20251121T133522Z
SUMMARY:JICHS: Senior Parent Information Night
URL;VALUE=URI:https://www.jamesirwin.org/schools/jichs/calendar/8546624/jic
 hs-senior-parent-information-night
DTSTART:20250911T001500Z
DTEND:20250911T011500Z
END:VEVENT
END:VCALENDAR
