BEGIN:VCALENDAR
VERSION:2.0
PRODID:SchoolNow
CALSCALE:GREGORIAN
BEGIN:VEVENT
UID:4c33e290-82a7-11f0-b78f-0a58a9feac02
DTSTAMP:20251121T133522Z
SUMMARY:JICHS: ASVAB Testing for Grades 11 & 12
URL;VALUE=URI:https://www.jamesirwin.org/schools/jichs/calendar/8546623/jic
 hs-asvab-testing-for-grades-11-12
DTSTART;VALUE=DATE:20250905
DTEND;VALUE=DATE:20250906
END:VEVENT
END:VCALENDAR
