BEGIN:VCALENDAR
VERSION:2.0
PRODID:SchoolNow
CALSCALE:GREGORIAN
BEGIN:VEVENT
UID:d973e32e-7a16-11f0-8558-0a58a9feac02
DTSTAMP:20251121T133522Z
SUMMARY:JICS Board Meeting
LOCATION:5525 Astrozon Blvd\, Colorado Springs\, CO 80916
URL;VALUE=URI:https://www.jamesirwin.org/schools/jichs/calendar/8511755/jic
 s-board-meeting
DTSTART:20251119T010000Z
DTEND:20251119T023000Z
END:VEVENT
END:VCALENDAR
