BEGIN:VCALENDAR
VERSION:2.0
PRODID:SchoolNow
CALSCALE:GREGORIAN
BEGIN:VEVENT
UID:a45c8ea2-67f6-11f0-8f16-0e7b8820e0bd
DTSTAMP:20251121T133522Z
SUMMARY:JICHS: Office Closed
URL;VALUE=URI:https://www.jamesirwin.org/schools/jichs/calendar/8440972/jic
 hs-office-closed
DTSTART;VALUE=DATE:20250729
DTEND;VALUE=DATE:20250730
END:VEVENT
END:VCALENDAR
