BEGIN:VCALENDAR
VERSION:2.0
PRODID:SchoolNow
CALSCALE:GREGORIAN
BEGIN:VEVENT
UID:db787bd8-6361-11f0-aef7-0a58a9feac02
DTSTAMP:20251121T133522Z
SUMMARY:JICHS: Fall Sports Parent Meeting
URL;VALUE=URI:https://www.jamesirwin.org/schools/jichs/calendar/8425750/jic
 hs-fall-sports-parent-meeting
DTSTART:20250807T000000Z
DTEND:20250807T010000Z
END:VEVENT
END:VCALENDAR
