BEGIN:VCALENDAR
VERSION:2.0
PRODID:SchoolNow
CALSCALE:GREGORIAN
BEGIN:VEVENT
UID:db787aa2-6361-11f0-b09e-0a58a9feac02
DTSTAMP:20251121T133522Z
SUMMARY:JICHS: Office Closed
URL;VALUE=URI:https://www.jamesirwin.org/schools/jichs/calendar/8425749/jic
 hs-office-closed
DTSTART;VALUE=DATE:20250801
DTEND;VALUE=DATE:20250802
END:VEVENT
END:VCALENDAR
