BEGIN:VCALENDAR
VERSION:2.0
PRODID:SchoolNow
CALSCALE:GREGORIAN
BEGIN:VEVENT
UID:db787732-6361-11f0-ab8d-0a58a9feac02
DTSTAMP:20251121T133522Z
SUMMARY:JICHS: Office Closed
URL;VALUE=URI:https://www.jamesirwin.org/schools/jichs/calendar/8425748/jic
 hs-office-closed
DTSTART;VALUE=DATE:20250725
DTEND;VALUE=DATE:20250726
END:VEVENT
END:VCALENDAR
