BEGIN:VCALENDAR
VERSION:2.0
PRODID:SchoolNow
CALSCALE:GREGORIAN
BEGIN:VEVENT
UID:40ac765c-5b9d-11f0-9f02-0a58a9feac02
DTSTAMP:20251121T133522Z
SUMMARY:JICHS: Winter MAP Testing
URL;VALUE=URI:https://www.jamesirwin.org/schools/jichs/calendar/8394466/jic
 hs-winter-map-testing
DTSTART;VALUE=DATE:20251117
DTEND;VALUE=DATE:20251120
END:VEVENT
END:VCALENDAR
