BEGIN:VCALENDAR
VERSION:2.0
PRODID:SchoolNow
CALSCALE:GREGORIAN
BEGIN:VEVENT
UID:40ac74a4-5b9d-11f0-9800-0a58a9feac02
DTSTAMP:20251121T133522Z
SUMMARY:JICHS: Seniors ACT Exam
URL;VALUE=URI:https://www.jamesirwin.org/schools/jichs/calendar/8394464/jic
 hs-seniors-act-exam
DTSTART;VALUE=DATE:20251014
DTEND;VALUE=DATE:20251015
END:VEVENT
END:VCALENDAR
