BEGIN:VCALENDAR
VERSION:2.0
PRODID:SchoolNow
CALSCALE:GREGORIAN
BEGIN:VEVENT
UID:40ac7350-5b9d-11f0-bd44-0a58a9feac02
DTSTAMP:20251121T133522Z
SUMMARY:JICHS: Homecoming Dance
LOCATION:James Irwin Charter High School (South East Entrance)\, 5525 Astro
 zon Blvd\, Colorado Springs\, CO 80916\, USA
URL;VALUE=URI:https://www.jamesirwin.org/schools/jichs/calendar/8394463/jic
 hs-homecoming-dance
DTSTART:20251011T010000Z
DTEND:20251011T050000Z
END:VEVENT
END:VCALENDAR
