BEGIN:VCALENDAR
VERSION:2.0
PRODID:SchoolNow
CALSCALE:GREGORIAN
BEGIN:VEVENT
UID:40ac7274-5b9d-11f0-b083-0a58a9feac02
DTSTAMP:20251121T133522Z
SUMMARY:JICHS: Homecoming Spirit Week (click for details)
URL;VALUE=URI:https://www.jamesirwin.org/schools/jichs/calendar/8394462/jic
 hs-homecoming-spirit-week-click-for-details
DTSTART;VALUE=DATE:20251006
DTEND;VALUE=DATE:20251010
END:VEVENT
END:VCALENDAR
