BEGIN:VCALENDAR
VERSION:2.0
PRODID:SchoolNow
CALSCALE:GREGORIAN
BEGIN:VEVENT
UID:40ac718e-5b9d-11f0-a761-0a58a9feac02
DTSTAMP:20251121T133522Z
SUMMARY:JICHS: Parent Teacher Conferences
URL;VALUE=URI:https://www.jamesirwin.org/schools/jichs/calendar/8394461/jic
 hs-parent-teacher-conferences
DTSTART:20250925T230000Z
DTEND:20250926T020000Z
END:VEVENT
END:VCALENDAR
