BEGIN:VCALENDAR
VERSION:2.0
PRODID:SchoolNow
CALSCALE:GREGORIAN
BEGIN:VEVENT
UID:40ac70b2-5b9d-11f0-b2a6-0a58a9feac02
DTSTAMP:20251121T133522Z
SUMMARY:JICHS: Fall MAP Testing
URL;VALUE=URI:https://www.jamesirwin.org/schools/jichs/calendar/8394460/jic
 hs-fall-map-testing
DTSTART;VALUE=DATE:20250902
DTEND;VALUE=DATE:20250905
END:VEVENT
END:VCALENDAR
