BEGIN:VCALENDAR
VERSION:2.0
PRODID:SchoolNow
CALSCALE:GREGORIAN
BEGIN:VEVENT
UID:40ac6fcc-5b9d-11f0-bca7-0a58a9feac02
DTSTAMP:20251121T133522Z
SUMMARY:JICHS: Picture Day
URL;VALUE=URI:https://www.jamesirwin.org/schools/jichs/calendar/8394459/jic
 hs-picture-day
DTSTART;VALUE=DATE:20250826
DTEND;VALUE=DATE:20250827
END:VEVENT
END:VCALENDAR
