BEGIN:VCALENDAR
VERSION:2.0
PRODID:SchoolNow
CALSCALE:GREGORIAN
BEGIN:VEVENT
UID:40ac6ef0-5b9d-11f0-97b0-0a58a9feac02
DTSTAMP:20251121T133522Z
SUMMARY:JICHS: School Retreat
URL;VALUE=URI:https://www.jamesirwin.org/schools/jichs/calendar/8394458/jic
 hs-school-retreat
DTSTART;VALUE=DATE:20250813
DTEND;VALUE=DATE:20250816
END:VEVENT
END:VCALENDAR
