BEGIN:VCALENDAR
VERSION:2.0
PRODID:SchoolNow
CALSCALE:GREGORIAN
BEGIN:VEVENT
UID:40ac6e0a-5b9d-11f0-8a3d-0a58a9feac02
DTSTAMP:20251121T133522Z
SUMMARY:JICHS: Back to School Night
URL;VALUE=URI:https://www.jamesirwin.org/schools/jichs/calendar/8394457/jic
 hs-back-to-school-night
DTSTART:20250807T230000Z
DTEND:20250808T000000Z
END:VEVENT
END:VCALENDAR
