BEGIN:VCALENDAR
VERSION:2.0
PRODID:SchoolNow
CALSCALE:GREGORIAN
BEGIN:VEVENT
UID:40ac6d1a-5b9d-11f0-b0e5-0a58a9feac02
DTSTAMP:20251121T133522Z
SUMMARY:JICHS: New Student/Freshman Orientation (Mandatory)
URL;VALUE=URI:https://www.jamesirwin.org/schools/jichs/calendar/8394456/jic
 hs-new-student-freshman-orientation-mandatory
DTSTART:20250804T150000Z
DTEND:20250804T160000Z
END:VEVENT
END:VCALENDAR
