BEGIN:VCALENDAR
VERSION:2.0
PRODID:SchoolNow
CALSCALE:GREGORIAN
BEGIN:VEVENT
UID:40ac6c3e-5b9d-11f0-98c7-0a58a9feac02
DTSTAMP:20251121T133522Z
SUMMARY:JICHS: First Day of School (1:30 Dismissal)
URL;VALUE=URI:https://www.jamesirwin.org/schools/jichs/calendar/8394455/jic
 hs-first-day-of-school-1-30-dismissal
DTSTART;VALUE=DATE:20250811
DTEND;VALUE=DATE:20250812
END:VEVENT
END:VCALENDAR
