BEGIN:VCALENDAR
VERSION:2.0
PRODID:SchoolNow
CALSCALE:GREGORIAN
BEGIN:VEVENT
UID:40ac6b58-5b9d-11f0-b238-0a58a9feac02
DTSTAMP:20251121T133522Z
SUMMARY:JICHS: Regular Schedule Begins (click for details)
URL;VALUE=URI:https://www.jamesirwin.org/schools/jichs/calendar/8394454/jic
 hs-regular-schedule-begins-click-for-details
DTSTART;VALUE=DATE:20250818
DTEND;VALUE=DATE:20250819
END:VEVENT
END:VCALENDAR
