BEGIN:VCALENDAR
VERSION:2.0
PRODID:SchoolNow
CALSCALE:GREGORIAN
BEGIN:VEVENT
UID:40ac6a72-5b9d-11f0-9789-0a58a9feac02
DTSTAMP:20251121T133522Z
SUMMARY:JICHS: 1:30 Dismissal
URL;VALUE=URI:https://www.jamesirwin.org/schools/jichs/calendar/8394453/jic
 hs-1-30-dismissal
DTSTART;VALUE=DATE:20250811
DTEND;VALUE=DATE:20250816
END:VEVENT
END:VCALENDAR
