BEGIN:VCALENDAR
VERSION:2.0
PRODID:SchoolNow
CALSCALE:GREGORIAN
BEGIN:VEVENT
UID:40ac6568-5b9d-11f0-af5a-0a58a9feac02
DTSTAMP:20251121T133522Z
SUMMARY:JICHS: School Closed
URL;VALUE=URI:https://www.jamesirwin.org/schools/jichs/calendar/8394448/jic
 hs-school-closed
DTSTART;VALUE=DATE:20251013
DTEND;VALUE=DATE:20251014
END:VEVENT
END:VCALENDAR
