BEGIN:VCALENDAR
VERSION:2.0
PRODID:SchoolNow
CALSCALE:GREGORIAN
BEGIN:VEVENT
UID:40ac636a-5b9d-11f0-b961-0a58a9feac02
DTSTAMP:20251121T133522Z
SUMMARY:JICHS: End of 1st Quarter
URL;VALUE=URI:https://www.jamesirwin.org/schools/jichs/calendar/8394446/jic
 hs-end-of-1st-quarter
DTSTART;VALUE=DATE:20251009
DTEND;VALUE=DATE:20251010
END:VEVENT
END:VCALENDAR
