BEGIN:VCALENDAR
VERSION:2.0
PRODID:SchoolNow
CALSCALE:GREGORIAN
BEGIN:VEVENT
UID:40ac6234-5b9d-11f0-8bd2-0a58a9feac02
DTSTAMP:20251121T133522Z
SUMMARY:JICHS: Student Count Day
URL;VALUE=URI:https://www.jamesirwin.org/schools/jichs/calendar/8394445/jic
 hs-student-count-day
DTSTART;VALUE=DATE:20251001
DTEND;VALUE=DATE:20251002
END:VEVENT
END:VCALENDAR
