BEGIN:VCALENDAR
VERSION:2.0
PRODID:SchoolNow
CALSCALE:GREGORIAN
BEGIN:VEVENT
UID:54ff9e64-464d-11f0-891c-0a58a9feac02
DTSTAMP:20251121T133522Z
SUMMARY:JICHS: Sports Physicals at JICHS
LOCATION:James Irwin Charter High School (South East Entrance)\, 5525 Astro
 zon Blvd\, Colorado Springs\, CO 80916\, USA
URL;VALUE=URI:https://www.jamesirwin.org/schools/jichs/calendar/8283298/jic
 hs-sports-physicals-at-jichs
DTSTART:20250728T231500Z
DTEND:20250729T001500Z
END:VEVENT
END:VCALENDAR
