BEGIN:VCALENDAR
VERSION:2.0
PRODID:SchoolNow
CALSCALE:GREGORIAN
BEGIN:VEVENT
UID:76442ee6-253c-11f0-b02e-0a58a9feac02
DTSTAMP:20251121T133522Z
SUMMARY:JICHS: Switchbacks Game! (click for details)
LOCATION:Switchbacks Stadium\, 111 W Cimarron St\, Colorado Springs\, CO 80
 903\, USA
URL;VALUE=URI:https://www.jamesirwin.org/schools/jichs/calendar/8035407/jic
 hs-switchbacks-game-click-for-details
DTSTART;VALUE=DATE:20250801
DTEND;VALUE=DATE:20250802
ATTACH;FILENAME=DJ Z Digital.png;FMTTYPE=image/png:https://drive.google.com
 /open?id=1FppDVTCsmte9BOhaJ6vkGjuWfO42sNVT
END:VEVENT
END:VCALENDAR
